BEGIN:VCALENDAR
VERSION:2.0
PRODID:-//Restaurant St. Erhard - ECPv6.15.6//NONSGML v1.0//EN
CALSCALE:GREGORIAN
METHOD:PUBLISH
X-WR-CALNAME:Restaurant St. Erhard
X-ORIGINAL-URL:https://restaurant-erhard-regensburg.de
X-WR-CALDESC:Veranstaltungen für Restaurant St. Erhard
REFRESH-INTERVAL;VALUE=DURATION:PT1H
X-Robots-Tag:noindex
X-PUBLISHED-TTL:PT1H
BEGIN:VTIMEZONE
TZID:Europe/Berlin
BEGIN:DAYLIGHT
TZOFFSETFROM:+0100
TZOFFSETTO:+0200
TZNAME:CEST
DTSTART:20240331T010000
END:DAYLIGHT
BEGIN:STANDARD
TZOFFSETFROM:+0200
TZOFFSETTO:+0100
TZNAME:CET
DTSTART:20241027T010000
END:STANDARD
BEGIN:DAYLIGHT
TZOFFSETFROM:+0100
TZOFFSETTO:+0200
TZNAME:CEST
DTSTART:20250330T010000
END:DAYLIGHT
BEGIN:STANDARD
TZOFFSETFROM:+0200
TZOFFSETTO:+0100
TZNAME:CET
DTSTART:20251026T010000
END:STANDARD
BEGIN:DAYLIGHT
TZOFFSETFROM:+0100
TZOFFSETTO:+0200
TZNAME:CEST
DTSTART:20260329T010000
END:DAYLIGHT
BEGIN:STANDARD
TZOFFSETFROM:+0200
TZOFFSETTO:+0100
TZNAME:CET
DTSTART:20261025T010000
END:STANDARD
BEGIN:DAYLIGHT
TZOFFSETFROM:+0100
TZOFFSETTO:+0200
TZNAME:CEST
DTSTART:20270328T010000
END:DAYLIGHT
BEGIN:STANDARD
TZOFFSETFROM:+0200
TZOFFSETTO:+0100
TZNAME:CET
DTSTART:20271031T010000
END:STANDARD
END:VTIMEZONE
BEGIN:VEVENT
DTSTART;TZID=Europe/Berlin:20251231T190000
DTEND;TZID=Europe/Berlin:20260101T030000
DTSTAMP:20260421T092006
CREATED:20250731T145508Z
LAST-MODIFIED:20250731T145827Z
UID:12931-1767207600-1767236400@restaurant-erhard-regensburg.de
SUMMARY:SILVESTERBALL 2025/2026
DESCRIPTION:Der rauschende Silvesterball im Herzen von Regensburg!\nEin Jahreswechsel hat immer einen ganz besonderen Zauber. Weshalb wir auch 2025 wieder zum legendären Silvesterball in unseren Festsaal einladen. Für die einzigartige musikalische Unterhaltung sorgen auch in diesem Jahr wieder „Erwin und die Heckflossen“ mit „Special Guest“ Susanne Pointinger. Starten Sie mit uns gemeinsam in das neue Jahr – mit einem großen\, rauschendem Fest. \nFür Leib und Seele erwartet Sie ein Gala-Buffet der Extraklasse\, Hier verwöhnt Sie unser Küchenteam zum Jahresende mit köstlichen warmen und kalten Spezialitäten. Natürlich kommen auch die „Süßen“ so ganz auf ihre Kosten. Die umfangreiche Auswahl an erlesen alkoholischen und nicht-alkoholischen Getränken ist eine Selbstverständlichkeit. Lassen Sie uns dann gemeinsam und pünktlich um Mitternacht – mit dem traditionellen Glas Sekt – bestens ins neue Jahr 2026 rutschen! Feiern Sie mit uns. \n\nAuf einen Blick:\nInklusivpreis: 158\,00 € pro Gast\nWir freuen uns\, wenn Sie in Abendgarderobe erscheinen.\nEinlass: 19:00 Uhr\nBeginn: 20:00 Uhr\nEnde:    03:00 Uhr \nWie kommen Sie zu Ihren Karten? Der Ticketvorverkauf startet ab Montag\, 4. August 2025. Danke\, wenn Sie uns bevorzugt eine E-Mail mit Ihrer vollständigen Postadresse wie Telefonnummer (Mobilnummer) senden und uns mitteilen wie viele Karten Sie erwerben möchten. Die Tickets erhalten Sie dann auf dem Postweg zusammen mit einem Überweisungsschreiben. Den jeweiligen Betrag können Sie dann einfach per Bank begleichen.\nDanke auch für Ihre Geduld und Ihr Verständnis\, dass wir die Tickets nur intervalweise versenden können. Sprich\, es dauert also in der Regel 1 -2 Wochen bis Sie Post von uns bekommen.\nWir freuen uns über Ihre Reservierung per E-Mail an verkauf@kolpinghaus-regensburg.de.\nSie haben Fragen? Gerne erreichen Sie unser Veranstaltungsbüro auch telefonisch unter 0941 59 500-0. Öffnungszeiten des Büros sind Mo-Fr von 9-16 Uhr.
URL:https://restaurant-erhard-regensburg.de/veranstaltung/silvesterball-2025-2026/
LOCATION:Kolpinghaus Regensburg\, Adolph-Kolping-Straße 1\, Regensburg\, 93047
END:VEVENT
END:VCALENDAR