BEGIN:VCALENDAR
VERSION:2.0
PRODID:-//Restaurant St. Erhard - ECPv6.15.6//NONSGML v1.0//EN
CALSCALE:GREGORIAN
METHOD:PUBLISH
X-WR-CALNAME:Restaurant St. Erhard
X-ORIGINAL-URL:https://restaurant-erhard-regensburg.de
X-WR-CALDESC:Veranstaltungen für Restaurant St. Erhard
REFRESH-INTERVAL;VALUE=DURATION:PT1H
X-Robots-Tag:noindex
X-PUBLISHED-TTL:PT1H
BEGIN:VTIMEZONE
TZID:Europe/Berlin
BEGIN:DAYLIGHT
TZOFFSETFROM:+0100
TZOFFSETTO:+0200
TZNAME:CEST
DTSTART:20250330T010000
END:DAYLIGHT
BEGIN:STANDARD
TZOFFSETFROM:+0200
TZOFFSETTO:+0100
TZNAME:CET
DTSTART:20251026T010000
END:STANDARD
BEGIN:DAYLIGHT
TZOFFSETFROM:+0100
TZOFFSETTO:+0200
TZNAME:CEST
DTSTART:20260329T010000
END:DAYLIGHT
BEGIN:STANDARD
TZOFFSETFROM:+0200
TZOFFSETTO:+0100
TZNAME:CET
DTSTART:20261025T010000
END:STANDARD
BEGIN:DAYLIGHT
TZOFFSETFROM:+0100
TZOFFSETTO:+0200
TZNAME:CEST
DTSTART:20270328T010000
END:DAYLIGHT
BEGIN:STANDARD
TZOFFSETFROM:+0200
TZOFFSETTO:+0100
TZNAME:CET
DTSTART:20271031T010000
END:STANDARD
END:VTIMEZONE
BEGIN:VEVENT
DTSTART;TZID=Europe/Berlin:20260424T190000
DTEND;TZID=Europe/Berlin:20260424T220000
DTSTAMP:20260424T015256
CREATED:20260109T132636Z
LAST-MODIFIED:20260410T075346Z
UID:13977-1777057200-1777068000@restaurant-erhard-regensburg.de
SUMMARY:ABBA Dinner Show
DESCRIPTION:Titel: ABBA Dinner Show \nWeitere Infos unter : \nhttps://www.themusicalsound.eu/abba
URL:https://restaurant-erhard-regensburg.de/veranstaltung/das-musical-dinner-2-2-2/
CATEGORIES:Dinner
ATTACH;FMTTYPE=image/png:https://restaurant-erhard-regensburg.de/wp-content/uploads/2026/01/image.png
END:VEVENT
END:VCALENDAR