BEGIN:VCALENDAR
VERSION:2.0
PRODID:-//Restaurant St. Erhard - ECPv6.15.6//NONSGML v1.0//EN
CALSCALE:GREGORIAN
METHOD:PUBLISH
X-WR-CALNAME:Restaurant St. Erhard
X-ORIGINAL-URL:https://restaurant-erhard-regensburg.de
X-WR-CALDESC:Veranstaltungen für Restaurant St. Erhard
REFRESH-INTERVAL;VALUE=DURATION:PT1H
X-Robots-Tag:noindex
X-PUBLISHED-TTL:PT1H
BEGIN:VTIMEZONE
TZID:Europe/Berlin
BEGIN:DAYLIGHT
TZOFFSETFROM:+0100
TZOFFSETTO:+0200
TZNAME:CEST
DTSTART:20220327T010000
END:DAYLIGHT
BEGIN:STANDARD
TZOFFSETFROM:+0200
TZOFFSETTO:+0100
TZNAME:CET
DTSTART:20221030T010000
END:STANDARD
BEGIN:DAYLIGHT
TZOFFSETFROM:+0100
TZOFFSETTO:+0200
TZNAME:CEST
DTSTART:20230326T010000
END:DAYLIGHT
BEGIN:STANDARD
TZOFFSETFROM:+0200
TZOFFSETTO:+0100
TZNAME:CET
DTSTART:20231029T010000
END:STANDARD
BEGIN:DAYLIGHT
TZOFFSETFROM:+0100
TZOFFSETTO:+0200
TZNAME:CEST
DTSTART:20240331T010000
END:DAYLIGHT
BEGIN:STANDARD
TZOFFSETFROM:+0200
TZOFFSETTO:+0100
TZNAME:CET
DTSTART:20241027T010000
END:STANDARD
END:VTIMEZONE
BEGIN:VEVENT
DTSTART;TZID=Europe/Berlin:20230811T190000
DTEND;TZID=Europe/Berlin:20230811T210000
DTSTAMP:20260423T233034
CREATED:20230707T060329Z
LAST-MODIFIED:20241219T163036Z
UID:11150-1691780400-1691787600@restaurant-erhard-regensburg.de
SUMMARY:Schmankerl Musi von 4fun im Restaurant St. Erhard
DESCRIPTION:Schmankerl Musi auf unserer Sonnenterrasse im Restaurant St. Erhard \n  \nEintritt frei (Hutsammlung) \nMusik auf der Terrasse von 19:00 – 21:00 Uhr\, dazu gibt’s Leckeres vom Grill und bayerische Schmankerl! \nReservierungen unter 0941 59 50 00 oder online \n 
URL:https://restaurant-erhard-regensburg.de/veranstaltung/schmankerl-musi-von-4fun-im-restaurant-st-erhard/
CATEGORIES:Konzert,Livemusik,Outdoor
ATTACH;FMTTYPE=image/png:https://restaurant-erhard-regensburg.de/wp-content/uploads/2024/12/auf-der-terrasse-mit-leckerem-vom-grill-1-1.png
END:VEVENT
END:VCALENDAR